BEGIN:VCALENDAR
VERSION:2.0
PRODID:-//Tukios.com/
BEGIN:VEVENT
UID:14326a18-81da-4f03-9a3e-e27b53e60cb4@www.smithfamilyfuneralhomes.com
DTSTAMP:20260425T202057Z
DTSTART:20260504
SUMMARY:Burial will take place
DESCRIPTION:
URL:https://www.smithfamilyfuneralhomes.com/obituaries/martha-anderson
LOCATION: 900 E Tyler Rd  Ithaca MI 48847
GEO:43.3345274;-84.5890904
END:VEVENT
END:VCALENDAR