BEGIN:VCALENDAR
VERSION:2.0
PRODID:-//Tukios.com/
BEGIN:VEVENT
UID:505c0b88-74cd-4aa6-817a-b8e1dd9b3263@www.smithfamilyfuneralhomes.com
DTSTAMP:20260425T202022Z
DTSTART:20260504T150000Z
DTEND:20260504T160000Z
SUMMARY:Funeral Service
DESCRIPTION:
URL:https://www.smithfamilyfuneralhomes.com/obituaries/martha-anderson
LOCATION:Beebe United Methodist Church Baldwin Road  Ithaca MI 48847
GEO:43.3134329;-84.5480199
END:VEVENT
END:VCALENDAR