BEGIN:VCALENDAR
VERSION:2.0
PRODID:-//Tukios.com/
BEGIN:VEVENT
UID:9c6897e7-598e-4935-8e16-a64af662cf68@www.smithfamilyfuneralhomes.com
DTSTAMP:20260425T201818Z
DTSTART:20260503T200000Z
DTEND:20260504T000000Z
SUMMARY:Visitation
DESCRIPTION:
URL:https://www.smithfamilyfuneralhomes.com/obituaries/martha-anderson
LOCATION: 117 North East Street  St. Louis MI 48880
GEO:43.4089091;-84.6030626
END:VEVENT
END:VCALENDAR