BEGIN:VCALENDAR
VERSION:2.0
PRODID:-//Tukios.com/
BEGIN:VEVENT
UID:2fb4216f-b1e8-4af9-8725-c4c7666a95a6@www.smithfamilyfuneralhomes.com
DTSTAMP:20260421T084931Z
DTSTART:20260417T160000Z
DTEND:20260417T170000Z
SUMMARY:Funeral Service
DESCRIPTION:
URL:https://www.smithfamilyfuneralhomes.com/obituaries/marilyn-boyd
LOCATION: 1333 East Center Street ,  Ithaca MI 48847
GEO:43.2921188;-84.5844772
END:VEVENT
END:VCALENDAR