BEGIN:VCALENDAR
VERSION:2.0
PRODID:-//Tukios.com/
BEGIN:VEVENT
UID:52eb107b-e505-48b5-bf13-ac3f8839316b@www.smithfamilyfuneralhomes.com
DTSTAMP:20260421T085109Z
DTSTART:20260417T140000Z
DTEND:20260417T160000Z
SUMMARY:Visitation
DESCRIPTION:
URL:https://www.smithfamilyfuneralhomes.com/obituaries/marilyn-boyd
LOCATION: 1333 East Center Street ,  Ithaca MI 48847
GEO:43.2921188;-84.5844772
END:VEVENT
END:VCALENDAR