BEGIN:VCALENDAR
VERSION:2.0
PRODID:-//Tukios.com/
BEGIN:VEVENT
UID:e8bd288a-6912-4ac0-94d4-717ea7b5b791@www.smithfamilyfuneralhomes.com
DTSTAMP:20260425T222748Z
DTSTART:20260430
SUMMARY:Burial will take place at
DESCRIPTION:
URL:https://www.smithfamilyfuneralhomes.com/obituaries/donna-kuripla
LOCATION: 706 E Steel St  Saint Johns MI 48879
GEO:43.0059682;-84.5481881
END:VEVENT
END:VCALENDAR