BEGIN:VCALENDAR
VERSION:2.0
PRODID:-//Tukios.com/
BEGIN:VEVENT
UID:372817f2-0769-4fbc-812d-9e571f5e4731@www.smithfamilyfuneralhomes.com
DTSTAMP:20260425T222750Z
DTSTART:20260430T150000Z
DTEND:20260430T160000Z
SUMMARY:Mass of Christian Burial will be held
DESCRIPTION:
URL:https://www.smithfamilyfuneralhomes.com/obituaries/donna-kuripla
LOCATION: 109 Linden St  Saint Johns MI 48879
GEO:43.0003722;-84.5575159
END:VEVENT
END:VCALENDAR