BEGIN:VCALENDAR
VERSION:2.0
PRODID:-//Tukios.com/
BEGIN:VEVENT
UID:271d3b4f-0d13-4730-90ae-56e27de73d7e@www.smithfamilyfuneralhomes.com
DTSTAMP:20260425T222748Z
DTSTART:20260429T230000Z
DTEND:20260430T000000Z
SUMMARY:Vigil Service will be prayed
DESCRIPTION:
URL:https://www.smithfamilyfuneralhomes.com/obituaries/donna-kuripla
LOCATION: 104 East Cass Street  St. Johns MI 48879
GEO:42.999918;-84.5575159
END:VEVENT
END:VCALENDAR