BEGIN:VCALENDAR
VERSION:2.0
PRODID:-//Tukios.com/
BEGIN:VEVENT
UID:ab2c1c20-88da-4054-9f14-327fc699408a@www.smithfamilyfuneralhomes.com
DTSTAMP:20260425T222749Z
DTSTART:20260429T200000Z
DTEND:20260429T230000Z
SUMMARY:Visitation
DESCRIPTION:
URL:https://www.smithfamilyfuneralhomes.com/obituaries/donna-kuripla
LOCATION: 104 East Cass Street  St. Johns MI 48879
GEO:42.999918;-84.5575159
END:VEVENT
END:VCALENDAR