BEGIN:VCALENDAR
VERSION:2.0
PRODID:-//Tukios.com/
BEGIN:VEVENT
UID:f6a76be9-014d-4ace-bf74-a2469f7b609f@www.smithfamilyfuneralhomes.com
DTSTAMP:20260420T001952Z
DTSTART:20260423
SUMMARY:Burial will take place
DESCRIPTION:
URL:https://www.smithfamilyfuneralhomes.com/obituaries/c-netzley
LOCATION: 3851 N Bagley Rd  Alma MI 48801
GEO:43.3475654;-84.5677114
END:VEVENT
END:VCALENDAR