BEGIN:VCALENDAR
VERSION:2.0
PRODID:-//Tukios.com/
BEGIN:VEVENT
UID:7dfaea24-ab26-4d0b-aa38-50a7cd3e3d3e@www.smithfamilyfuneralhomes.com
DTSTAMP:20260420T002755Z
DTSTART:20260423T150000Z
DTEND:20260423T160000Z
SUMMARY:Funeral Service
DESCRIPTION:
URL:https://www.smithfamilyfuneralhomes.com/obituaries/c-netzley
LOCATION: 117 North East Street  St. Louis MI 48880
GEO:43.4089091;-84.6030626
END:VEVENT
END:VCALENDAR