BEGIN:VCALENDAR
VERSION:2.0
PRODID:-//Tukios.com/
BEGIN:VEVENT
UID:77bf4ec4-ccbd-4d5a-a95c-5a8a98755353@www.smithfamilyfuneralhomes.com
DTSTAMP:20260420T002255Z
DTSTART:20260423T140000Z
DTEND:20260423T150000Z
SUMMARY:Visitation
DESCRIPTION:
URL:https://www.smithfamilyfuneralhomes.com/obituaries/c-netzley
LOCATION: 117 North East Street  St. Louis MI 48880
GEO:43.4089091;-84.6030626
END:VEVENT
END:VCALENDAR